BEGIN:VCALENDAR
PRODID:-//hacksw/handcal//NONSGML v1.0//EN
VERSION:2.0
METHOD:PUBLISH
BEGIN:VEVENT
DTSTART:20260715T203000Z
DTEND:20260715T223000Z
LOCATION:
UID:2879320260715T203000ZMember & Prospective Member Networking Event (Date and Time Subject to Change)
DTSTAMP:20260422T150108Z
DESCRIPTION:
SUMMARY:Member & Prospective Member Networking Event (Date and Time Subject to Change) - Northern Virginia Estate Planning Council 
PRIORITY:3
BEGIN:VALARM
TRIGGER:PT18H
ACTION:DISPLAY
DESCRIPTION:Reminder
END:VALARM
END:VEVENT
END:VCALENDAR